Workbook
Name Print_Area: 'PrA-Berufe│Professions FPra'!$A$10:$F$104
Name Print_Titles: 'PrA-Berufe│Professions FPra'!$10:$10
Name printitles: 'PrA-Berufe│Professions FPra'!$10:$10
Name printitless: 'PrA-Berufe│Professions FPra'!$10:$10
Name PrintTitles: 'PrA-Berufe│Professions FPra'!$10:$10
Name ss: 'PrA-Berufe│Professions FPra'!$10:$10
Name sss: 'PrA-Berufe│Professions FPra'!$10:$10
Name sssss: 'PrA-Berufe│Professions FPra'!$10:$10

Sheet Inhalt│Contenu
A4: PrA – Schliesst eine Lücke im Bildungssystem│www.praktischeausbildung.ch
A5: FPra – Comble une lacune dans le système éducatif│www.formationpratique.ch
A8: PrA-Berufe│Professions FPra | B8: PrA-Berufsverzeichnis│Liste des professions FPra
A10: T1 | B10: PrA Lernende nach Berufsverzeichnis, 1. / 2. Lehrjahr 2024/2025│Apprenti·es FPra selon le répertoire des professions, 1re / 2e année d'apprentisssage 2024/2025
A12: T2 | B12: PrA Lernende nach Kanton, 1. / 2. Lehrjahr 2024/2025│Apprenti·es FPra par canton, 1re / 2e année d'apprentisssage 2024/2025
A14: T3 | B14: PrA Lernende nach Pra-Bezeichnung und Kanton, 1. Lehrjahr 2024/2025│Apprenti·es FPra par profession et par canton, 1re année d'apprentissage 2024/2025
A16: T4 | B16: PrA Lernende nach Pra-Bezeichnung und Kanton, 2. Lehrjahr 2024/2025│Apprenti·es FPra par profession et par canton, 2e année d'apprentissage 2024/2025
A21: Stand│État : Juillet 2025
A22: Quelle│Source : INSOS (Föderation ARTISET)
A23: © INSOS 2025
A24: Die Vervielfältigung ist erlaubt, sofern die Quelle angegeben wird und keine kommerziellen Zwecke verfolgt werden│La reproduction est autorisée, sauf à des fins commerciales, si la source est mentionnée
A26: Kontaktperson│Renseignements : Rocco Brignoli, Wissenschaftlicher Mitarbeiter Arbeitswelt, pra@insos.ch│Collaborateur scientifique Monde du travail, fpra@insos.ch

Sheet PrA-Berufe│Professions FPra
A4: PrA – Schliesst eine Lücke im Bildungssystem│www.praktischeausbildung.ch
A5: FPra – Comble une lacune dans le système éducatif│www.formationpratique.ch
A7: PrA-Berufsverzeichnis
A8: Répétoire des professions FPra
A9: Datenexport : 07.07.2025
A10: Branche | B10: Branche | C10: Dénomination AFP | D10: EBA-Bezeichnung | E10: Dénomination Fpra | F10: PrA-Bezeichnung
A11: Audiovisuel, techniques et production de médias | B11: Audiovisuelle Techniken und Medienproduktion | E11: Praticien/ne FPra en graphisme | F11: Praktiker/in PrA Grafik
A12: Audiovisuel, techniques et production de médias | B12: Audiovisuelle Techniken und Medienproduktion | E12: Praticien/ne FPra en médiamatique | F12: Praktiker/in PrA Mediamatik
A13: Audiovisuel, techniques et production de médias | B13: Audiovisuelle Techniken und Medienproduktion | C13: Assistant/e en médias imprimés AFP | D13: Printmedienpraktiker/in EBA | E13: Praticien/ne FPra en médias imprimés | F13: Praktiker/in PrA Printmedien
A14: Audiovisuel, techniques et production de médias | B14: Audiovisuelle Techniken und Medienproduktion | C14: Assistant/e en médias imprimés AFP | D14: Printmedienpraktiker/in EBA | E14: Praticien/ne FPra en médias imprimés orientation impression feuilles | F14: Praktiker/in PrA Printmedien Fachrichtung Bogendruck
A15: Audiovisuel, techniques et production de médias | B15: Audiovisuelle Techniken und Medienproduktion | C15: Assistant/e en médias imprimés AFP | D15: Printmedienpraktiker/in EBA | E15: Praticien/ne FPra en médias imprimés orientation apprêt | F15: Praktiker/in PrA Printmedien Fachrichtung Druckweiterverarbeitung
A16: Audiovisuel, techniques et production de médias | B16: Audiovisuelle Techniken und Medienproduktion | C16: Assistant/e en médias imprimés AFP | D16: Printmedienpraktiker/in EBA | E16: Praticien/ne FPra en médias imprimés orientation cartonnage et emballage | F16: Praktiker/in PrA Printmedien Fachrichtung Kartonage und Verpackung
A17: Audiovisuel, techniques et production de médias | B17: Audiovisuelle Techniken und Medienproduktion | C17: Assistant/e en médias imprimés AFP | D17: Printmedienpraktiker/in EBA | E17: Praticien/ne FPra en médias imprimés orientation impression rotative | F17: Praktiker/in PrA Printmedien Fachrichtung Rollendruck
A18: Audiovisuel, techniques et production de médias | B18: Audiovisuelle Techniken und Medienproduktion | C18: Assistant/e en médias imprimés AFP | D18: Printmedienpraktiker/in EBA | E18: Praticien/ne FPra en médias imprimés orientation sérigraphie | F18: Praktiker/in PrA Printmedien Fachrichtung Siebdruck
A19: Audiovisuel, techniques et production de médias | B19: Audiovisuelle Techniken und Medienproduktion | C19: Assistant/e en médias imprimés AFP | D19: Printmedienpraktiker/in EBA | E19: Praticien/ne FPra en médias imprimés orientation techniques publicitaires | F19: Praktiker/in PrA Printmedien Fachrichtung Werbetechnik
A20: Audiovisuel, techniques et production de médias | B20: Audiovisuelle Techniken und Medienproduktion | E20: Praticien/ne FPra en technique événementielle | F20: Praktiker/in PrA Veranstaltungstechnik
A21: Construction et génie civil | B21: Baugewerbe, Hoch- und Tiefbau | C21: Praticien/ne en étanchéité AFP | D21: Abdichtungspraktiker/in EBA | E21: Praticien/ne FPra en étanchéité | F21: Praktiker/in PrA Abdichten
A22: Construction et génie civil | B22: Baugewerbe, Hoch- und Tiefbau | C22: Maçon/ne AFP | D22: Maurer/in EBA | E22: Praticien/ne FPra en construction | F22: Praktiker/in PrA Bau
A23: Construction et génie civil | B23: Baugewerbe, Hoch- und Tiefbau | C23: Assistant/e-constructeur/constructrice de sols industriels et de chapes AFP | D23: Industrie- und Unterlagsbodenbaupraktiker/in EBA | E23: Praticien/ne FPra en pose de sol | F23: Praktiker/in PrA Bodenlegen
A24: Construction et génie civil | B24: Baugewerbe, Hoch- und Tiefbau | C24: Praticien/ne en couverture AFP | D24: Dachdeckerpraktiker/in EBA | E24: Praticien/ne FPra en travaux de couverture | F24: Praktiker/in PrA Dachdeckarbeiten
A25: Construction et génie civil | B25: Baugewerbe, Hoch- und Tiefbau | E25: Praticien/ne FPra en énergies renouvelables | F25: Praktiker/in PrA eneuerbare Energien
A26: Construction et génie civil | B26: Baugewerbe, Hoch- und Tiefbau | C26: Monteur solaire AFP / Monteuse solaire AFP | D26: Solarmonteur/in EBA | E26: Praticien/ne FPra en énergies renouvelables orientation montage de panneaux solaires | F26: Praktiker/in PrA eneuerbare Energien Fachrichtung Solarmontage
A27: Construction et génie civil | B27: Baugewerbe, Hoch- und Tiefbau | E27: Praticien/ne FPra en énergies renouvelables orientation pose de pompes à chaleur | F27: Praktiker/in PrA eneuerbare Energien Fachrichtung Wärmepumpen
A28: Construction et génie civil | B28: Baugewerbe, Hoch- und Tiefbau | C28: Praticien/ne en façades AFP | D28: Fassadenbaupraktiker/in EBA | E28: Praticien/ne FPra en façades | F28: Praktiker/in PrA Fassadenbau
A29: Construction et génie civil | B29: Baugewerbe, Hoch- und Tiefbau | E29: Praticien/ne FPra en technique du bâtiment | F29: Praktiker/in PrA Gebäudetechnik
A30: Construction et génie civil | B30: Baugewerbe, Hoch- und Tiefbau | C30: Aide en chauffage AFP | D30: Heizungspraktiker/in EBA | E30: Praticien/ne FPra en technique du bâtiment orientation chauffage | F30: Praktiker/in PrA Gebäudetechnik Fachrichtung Heizung
A31: Construction et génie civil | B31: Baugewerbe, Hoch- und Tiefbau | C31: Aide en installations de ventilation AFP | D31: Lüftungsanlagenpraktiker/in EBA | E31: Praticien/ne FPra en technique du bâtiment orientation ventilation | F31: Praktiker/in PrA Gebäudetechnik Fachrichtung Lüftung
A32: Construction et génie civil | B32: Baugewerbe, Hoch- und Tiefbau | C32: Aide en sanitaire AFP | D32: Sanitärpraktiker/in EBA | E32: Praticien/ne FPra en technique du bâtiment orientation sanitaire | F32: Praktiker/in PrA Gebäudetechnik Fachrichtung Sanitär
A33: Construction et génie civil | B33: Baugewerbe, Hoch- und Tiefbau | C33: Aide en ferblanterie AFP | D33: Spenglerpraktiker/in EBA | E33: Praticien/ne FPra en technique du bâtiment orientation ferblanterie | F33: Praktiker/in PrA Gebäudetechnik Fachrichtung Spenglerei
A34: Construction et génie civil | B34: Baugewerbe, Hoch- und Tiefbau | C34: Praticien/ne en échafaudage AFP | D34: Gerüstbaupraktiker/in EBA | E34: Praticien/ne FPra en échafaudages | F34: Praktiker/in PrA Gerüstebau
A35: Construction et génie civil | B35: Baugewerbe, Hoch- und Tiefbau | C35: Aide-plâtrier AFP / Aide-plâtrière AFP | D35: Gipserpraktiker/in EBA | E35: Praticien/ne FPra en gypserie | F35: Praktiker/in PrA Gipserei
A36: Construction et génie civil | B36: Baugewerbe, Hoch- und Tiefbau | C36: Aide-monteur/euse frigoriste AFP | D36: Kältemontage-Praktiker/in EBA | E36: Praticien/ne FPra en montage frigorifique | F36: Praktiker/in PrA Kältemontage
A37: Construction et génie civil | B37: Baugewerbe, Hoch- und Tiefbau | C37: Aide-peintre AFP | D37: Malerpraktiker/in EBA | E37: Praticien/ne FPra en peinture | F37: Praktiker/in PrA Malerei
A38: Construction et génie civil | B38: Baugewerbe, Hoch- und Tiefbau | C38: Aide-carreleur AFP / Aide-carreleuse AFP | D38: Plattenlegerpraktiker/in EBA | E38: Praticien/ne FPra en carrelage | F38: Praktiker/in PrA Plattenlegen
A39: Construction et génie civil | B39: Baugewerbe, Hoch- und Tiefbau | C39: Assistant/e-constructeur/constructrice de routes AFP | D39: Strassenbaupraktiker/in EBA | E39: Praticien/ne FPra en construction de routes | F39: Praktiker/in PrA Strassenbau
A40: Électronique et automatisation | B40: Elektronik und Automation | E40: Praticien/ne FPra en travaux électriques | F40: Praktiker/in PrA Elektroarbeiten
A41: Électronique et automatisation | B41: Elektronik und Automation | E41: Praticien/ne FPra en travaux électriques orientation installation électrique | F41: Praktiker/in PrA Elektroarbeiten Fachrichtung Elektroanlagen-Montage
A42: Électronique et automatisation | B42: Elektronik und Automation | E42: Praticien/ne FPra en travaux électriques orientation montage de machines électriques | F42: Praktiker/in PrA Elektroarbeiten Fachrichtung Elektromaschinen-Montage
A43: Électronique et automatisation | B43: Elektronik und Automation | E43: Praticien/ne FPra en travaux électriques orientation montage d’appareils électriques | F43: Praktiker/in PrA Elektroarbeiten Fachrichtung Elektronikgeräte-Montage
A44: Électronique et automatisation | B44: Elektronik und Automation | E44: Praticien/ne FPra en travaux électriques orientation montage d’appareils informatiques | F44: Praktiker/in PrA Elektroarbeiten Fachrichtung Informatikgeräte-Montage
A45: Électronique et automatisation | B45: Elektronik und Automation | E45: Praticien/ne FPra en travaux électriques orientation affinage sur métal | F45: Praktiker/in PrA Elektroarbeiten Fachrichtung Metallveredelung
A46: Électronique et automatisation | B46: Elektronik und Automation | E46: Praticien/ne FPra en industrie (fabrication, montage, entretien, emballage, logistique) | F46: Praktiker/in PrA Industrie (Fertigung, Montage, Unterhalt, Verpackung, Logistik)
A47: Sylviculture | B47: Forstwirtschaft | C47: Praticien/ne forestier/ière AFP | D47: Forstpraktiker/in EBA | E47: Praticien/ne FPra en foresterie | F47: Praktiker/in PrA Forstarbeiten
A48: Services de soins de beauté et de coiffure | B48: Friseurgewerbe und Schönheitspflege | C48: Coiffeur/euse AFP | D48: Coiffeur/Coiffeuse EBA | E48: Praticien/ne FPra en salon de coiffure | F48: Praktiker/in PrA Coiffeursalon
A49: Horticulture | B49: Gartenbau | C49: Horticulteur/trice AFP orientation paysagisme | D49: Gärtner/in EBA Fachrichtung Garten- und Landschaftsbau | E49: Praticien/ne FPra en horticulture orientation paysagisme | F49: Praktiker/in PrA Gärtnerei Fachrichtung Garten- und Landschaftsbau
A50: Horticulture | B50: Gartenbau | C50: Horticulteur/trice AFP orientation production de plantes | D50: Gärtner/in EBA Fachrichtung Pflanzenproduktion | E50: Praticien/ne FPra en horticulture orientation production de plantes | F50: Praktiker/in PrA Gärtnerei Fachrichtung Pflanzenproduktion
A51: Hôtellerie et services de restauration | B51: Gastgewerbe und Catering | C51: Employé/e en cuisine AFP | D51: Küchenangestellte/r EBA | E51: Praticien/ne FPra en cuisine | F51: Praktiker/in PrA Küche
A52: Hôtellerie et services de restauration | B52: Gastgewerbe und Catering | C52: Employé/e en restauration AFP | D52: Restaurantangestellte/r EBA | E52: Praticien/ne FPra en restaurant | F52: Praktiker/in PrA Restaurant
A53: Hôtellerie et services de restauration | B53: Gastgewerbe und Catering | C53: Employé/e en restauration de système AFP | D53: Systemgastronomiepraktiker/in EBA | E53: Praticien/ne Fpra en restauration de système | F53: Praktiker/in PrA Systemgastronomie
A54: Commerce | B54: Handel | C54: Assistant/e du commerce de détail AFP | D54: Detailhandelsassistent/in EBA | E54: Praticien/ne FPra en commerce de détail | F54: Praktiker/in PrA Detailhandel
A55: Commerce | B55: Handel | C55: Logisticien/ne AFP | D55: Logistiker/in EBA | E55: Praticien/ne FPra en logistique | F55: Praktiker/in PrA Logistik
A56: Services domestiques | B56: Hauswirtschaftliche Dienste | C56: Employé/e d’exploitation AFP | D56: Unterhaltspraktiker/in EBA | E56: Praticien/ne FPra en conciergerie | F56: Praktiker/in PrA Betriebsunterhalt
A57: Services domestiques | B57: Hauswirtschaftliche Dienste | C57: Employé/e en intendance AFP | D57: Hauswirtschaftspraktiker/in EBA | E57: Praticien/ne FPra en intendance | F57: Praktiker/in PrA Hauswirtschaft
A58: Services domestiques | B58: Hauswirtschaftliche Dienste | C58: Employé/e en intendance AFP | D58: Hauswirtschaftspraktiker/in EBA | E58: Praticien/ne FPra en intendance domaine des personnes âgées | F58: Praktiker/in PrA Hauswirtschaft im Altersbereich
... A62: Services domestiques | B62: Hauswirtschaftliche Dienste | C62: Agent/e de propreté AFP | D62: Praktiker/in Reinigungstechnik EBA | E62: Praticien/ne FPra en technique de nettoyage | F62: Praktiker/in PrA Reinigungstechnik
A63: Informatique | B63: Informatik | E63: Praticien/ne FPra en informatique | F63: Praktiker/in PrA Informatik
A64: Véhicules à moteur, navires et avions | B64: Kraftfahrzeuge, Schiffe und Flugzeuge | C64: Assistant/e en maintenance d’automobiles AFP | D64: Automobil-Assistent/in EBA | E64: Praticien/ne FPra en automobiles | F64: Praktiker/in PrA Automobil
A65: Véhicules à moteur, navires et avions | B65: Kraftfahrzeuge, Schiffe und Flugzeuge | C65: Praticien/e en pneumatiques AFP | D65: Reifenpraktiker/in EBA | E65: Praticien/ne FPra en automobiles orientation montage pneumatique | F65: Praktiker/in PrA Automobil Fachrichtung Reifenmontage
A66: Véhicules à moteur, navires et avions | B66: Kraftfahrzeuge, Schiffe und Flugzeuge | E66: Praticien/ne FPra en carrosserie | F66: Praktiker/in PrA Carrosserie
A67: Véhicules à moteur, navires et avions | B67: Kraftfahrzeuge, Schiffe und Flugzeuge | C67: Assistant/e vernisseur AFP | D67: Lackierassistent/in EBA | E67: Praticien/ne FPra en vernissage | F67: Praktiker/in PrA Lackierung
A68: Véhicules à moteur, navires et avions | B68: Kraftfahrzeuge, Schiffe und Flugzeuge | C68: Assistant/e en maintenance des deux-roues AFP | D68: Zweirad-Assistent/in EBA | E68: Praticien/ne FPra en mécanique des motocycles | F68: Praktiker/in PrA Motorradmechanik
A69: Véhicules à moteur, navires et avions | B69: Kraftfahrzeuge, Schiffe und Flugzeuge | C69: Assistant/e en maintenance des deux-roues AFP | D69: Zweirad-Assistent/in EBA | E69: Praticien/ne FPra en maintenance de deux roues | F69: Praktiker/in PrA Zweirad
A70: Artisanat | B70: Kunsthandwerk | E70: Praticien/ne FPra en sertissage de pierres précieuses | F70: Praktiker/in PrA Edelsteinfassungen
A71: Artisanat | B71: Kunsthandwerk | E71: Praticien/ne FPra en tressage | F71: Praktiker/in PrA Flechten
A72: Artisanat | B72: Kunsthandwerk | C72: Fleuriste AFP | D72: Florist/in EBA | E72: Praticien/ne FPra en fleuriste | F72: Praktiker/in PrA Floristik
A73: Artisanat | B73: Kunsthandwerk | E73: Praticien/ne FPra en tissage | F73: Praktiker/in PrA Handweben
A74: Artisanat | B74: Kunsthandwerk | E74: Praticien/ne FPra en céramique | F74: Praktiker/in PrA Keramik
A75: Artisanat | B75: Kunsthandwerk | E75: Praticien/ne FPra en production artisanale | F75: Praktiker/in PrA Kunsthandwerk
A76: Mécanique et techniques apparentées | B76: Maschinenbau und Metallverarbeitung | C76: Praticien/ne en mécanique AFP | D76: Mechanikpraktiker/in EBA | E76: Praticien/ne FPra en mécanique | F76: Praktiker/in PrA Mechanik
A77: Mécanique et techniques apparentées | B77: Maschinenbau und Metallverarbeitung | C77: Aide-constructeur/trice métallique AFP | D77: Metallbaupraktiker/in EBA | E77: Praticien/ne FPra en construction métallique | F77: Praktiker/in PrA Metallbau
A78: Mécanique et techniques apparentées | B78: Maschinenbau und Metallverarbeitung | C78: Opérateur/trice en horlogerie AFP | D78: Uhrenarbeiter/in EBA | E78: Praticien/ne FPra en horlogerie | F78: Praktiker/in PrA Uhrenarbeiten
A79: Stylisme, décoration et design industriel | B79: Mode, Innenarchitektur, industrielles Design | C79: Couturier/ère d'intérieur AFP | D79: Dekorationsnäher/in EBA | E79: Praticien/ne FPra en couture d'intérieur | F79: Praktiker/in PrA Dekorationsnäherei
A80: Musique, théâtre, danse, cirque | B80: Musik und darstellende Kunst | E80: Praticien/ne FPra en art dramatique, communication, design | F80: Praktiker/in PrA Schauspiel, Kommunikation, Gestaltung
A81: Traitement des aliments | B81: Nahrungsmittel | C81: Boulanger/ère-pâtissier/ière-confiseur/euse AFP | D81: Bäcker/in-Konditor/in-Confiseur/in EBA | E81: Praticien/ne FPra en boulangerie-pâtisserie-confiserie | F81: Praktiker/in PrA Bäckerei-Konditorei-Confiserie
A82: Traitement des aliments | B82: Nahrungsmittel | C82: Praticien/ne en denrées alimentaires AFP | D82: Lebensmittelpraktiker/in EBA | E82: Praticien/ne FPra en alimentation | F82: Praktiker/in PrA Lebensmittel
A83: Traitement des aliments | B83: Nahrungsmittel | C83: Boucher/ère-charcutier/ière AFP | D83: Fleischfachassistent/in EBA | E83: Praticien/ne FPra en boucherie | F83: Praktiker/in PrA Metzgerei
A84: Traitement des aliments | B84: Nahrungsmittel | C84: Employé/e en industrie laitière AFP | D84: Milchpraktiker/in EBA | E84: Praticien/ne FPra en industrie laitière | F84: Praktiker/in PrA Milchwirtschaft
A85: Culture et élevage | B85: Pflanzenbau und Tierzucht | E85: Praticien/ne FPra salon de coiffure pour chiens | F85: Praktiker/in PrA Hundecoiffeursalon
A86: Culture et élevage | B86: Pflanzenbau und Tierzucht | C86: Agropraticien/ne AFP | D86: Agrarpraktiker/in EBA | E86: Praticien/ne FPra en agriculture | F86: Praktiker/in PrA Landwirtschaft
A87: Culture et élevage | B87: Pflanzenbau und Tierzucht | C87: Agropraticien/ne AFP | D87: Agrarpraktiker/in EBA | E87: Praticien/ne FPra en agriculture orientation agriculture biologique | F87: Praktiker/in PrA Landwirtschaft Fachrichtung Biolandbau
A88: Culture et élevage | B88: Pflanzenbau und Tierzucht | C88: Agropraticien/ne AFP | D88: Agrarpraktiker/in EBA | E88: Praticien/ne FPra en agriculture orientation maraîcher | F88: Praktiker/in PrA Landwirtschaft Fachrichtung Gemüseanbau
A89: Culture et élevage | B89: Pflanzenbau und Tierzucht | C89: Agropraticien/ne AFP | D89: Agrarpraktiker/in EBA | E89: Praticien/ne FPra en agriculture orientation soins des animaux | F89: Praktiker/in PrA Landwirtschaft Fachrichtung Tierpflege
A90: Culture et élevage | B90: Pflanzenbau und Tierzucht | C90: Agropraticien/ne AFP | D90: Agrarpraktiker/in EBA | E90: Praticien/ne FPra en agriculture orientation viticulture | F90: Praktiker/in PrA Landwirtschaft Fachrichtung Winzern
A91: Culture et élevage | B91: Pflanzenbau und Tierzucht | C91: Gardien/ne de chevaux AFP | D91: Pferdewart/in EBA | E91: Praticien/ne FPra en soins des chevaux | F91: Praktiker/in PrA Pferdepflege
A92: Culture et élevage | B92: Pflanzenbau und Tierzucht | E92: Praticien/ne FPra en soins aux animaux | F92: Praktiker/in PrA Tierpflege
A93: Travail de secrétariat et de bureau | B93: Sekretariats- und Büroarbeit | C93: Employé/e de commerce AFP | D93: Kauffrau/Kaufmann EBA | E93: Praticien/ne FPra en travail de bureau | F93: Praktiker/in PrA Büroarbeiten
A94: Travail de secrétariat et de bureau | B94: Sekretariats- und Büroarbeit | E94: Praticien/ne FPra en emploi communal | F94: Praktiker/in PrA Gemeindemitarbeit
A95: Travail social et orientation | B95: Sozialarbeit und Beratung | C95: Aide en soins et accompagnement AFP | D95: Assistent/in Gesundheit und Soziales EBA | E95: Praticien/ne FPra en accompagnement et encadrement d’adultes | F95: Praktiker/in PrA Begleitung und Betreuung Erwachsene
A96: Travail social et orientation | B96: Sozialarbeit und Beratung | E96: Praticien/ne Fpra en assistance à l'integration scolaire | F96: Praktiker/in PrA Schulassistenz
A97: Textiles (vêtements, chaussures et cuir) | B97: Textilien (Kleidung, Schuhwerk und Leder) | C97: Confectionneur/euse AFP | D97: Bekleidungsnäher/in EBA | E97: Praticien/ne FPra en confection | F97: Praktiker/in PrA Nähen
A98: Textiles (vêtements, chaussures et cuir) | B98: Textilien (Kleidung, Schuhwerk und Leder) | E98: Praticien/ne FPra en réparation de chaussures | F98: Praktiker/in PrA Schuhreparaturen
A99: Technologie de la protection de l'environnement | B99: Umweltschutztechnologien | E99: Praticien/ne FPra en recyclage | F99: Praktiker/in PrA Recycling
A100: Services de trafic | B100: Verkehrsdienstleistungen | C100: Conducteur/trice de véhicules légers AFP | D100: Strassentransportpraktiker/in EBA | E100: Praticien/ne FPra conduite de véhicules légers | F100: Praktiker/in PrA Strassentransport
A101: Matériaux (verre, papier, plastique et bois) | B101: Werkstoffe (Glas, Papier, Kunststoff und Holz) | C101: Praticien/ne sur bois AFP | D101: Holzbearbeiter/in EBA | E101: Praticien/ne FPra en bois | F101: Praktiker/in PrA Holzbearbeitung
A102: Matériaux (verre, papier, plastique et bois) | B102: Werkstoffe (Glas, Papier, Kunststoff und Holz) | C102: Praticien/ne en matières plastiques AFP | D102: Kunststoffpraktiker/in EBA | E102: Praticien/ne FPra en matières plastiques | F102: Praktiker/in PrA Kunststoffverarbeitung
A103: Matériaux (verre, papier, plastique et bois) | B103: Werkstoffe (Glas, Papier, Kunststoff und Holz) | C103: Aide-menuisier/ière AFP | D103: Schreinerpraktiker/in EBA | E103: Praticien/ne FPra en menuiserie | F103: Praktiker/in PrA Schreinerei
A104: Études dentaires | B104: Zahnmedizin | E104: Praticien/ne FPra en cabinet dentaire | F104: Praktiker/in PrA Dentalpraxis
A109: Stand│État : Juillet 2025
A110: Quelle│Source : INSOS (Föderation ARTISET)
A111: © INSOS 2025
...

Sheet T1
A4: PrA – Schliesst eine Lücke im Bildungssystem│www.praktischeausbildung.ch
A5: FPra – Comble une lacune dans le système éducatif│www.formationpratique.ch
A7: PrA Lernende nach Berufsverzeichnis
A8: Apprenti·es FPra selon le répertoire des professions
A9: 1. Lehrjahr / 2. Lehrjahr - Datenexport : 14.02.2025
A10: Pra-Bezeichnung | B10: Anzahl Lernende 1. Lehrjahr | C10: Anzahl Lernende 2. Lehrjahr
A11: Praktiker PrA Hauswirtschaft | B11: =SUMIF('Escada Data'!C$5:C$828,A11,'Escada Data'!D$5:D$828) -> 134 | C11: =SUMIF('Escada Data'!C$5:C$828,A11,'Escada Data'!E$5:E$828) -> 133
A12: Praktiker PrA Küche | B12: =SUMIF('Escada Data'!C$5:C$828,A12,'Escada Data'!D$5:D$828) -> 111 | C12: =SUMIF('Escada Data'!C$5:C$828,A12,'Escada Data'!E$5:E$828) -> 118
A13: Praktiker PrA Logistik | B13: =SUMIF('Escada Data'!C$5:C$828,A13,'Escada Data'!D$5:D$828) -> 96 | C13: =SUMIF('Escada Data'!C$5:C$828,A13,'Escada Data'!E$5:E$828) -> 98
A14: Praktiker PrA Betriebsunterhalt | B14: =SUMIF('Escada Data'!C$5:C$828,A14,'Escada Data'!D$5:D$828) -> 90 | C14: =SUMIF('Escada Data'!C$5:C$828,A14,'Escada Data'!E$5:E$828) -> 81
A15: Praktiker PrA Industrie | B15: =SUMIF('Escada Data'!C$5:C$828,A15,'Escada Data'!D$5:D$828) -> 86 | C15: =SUMIF('Escada Data'!C$5:C$828,A15,'Escada Data'!E$5:E$828) -> 61
A16: Praktiker PrA Detailhandel | B16: =SUMIF('Escada Data'!C$5:C$828,A16,'Escada Data'!D$5:D$828) -> 85 | C16: =SUMIF('Escada Data'!C$5:C$828,A16,'Escada Data'!E$5:E$828) -> 86
A17: Praktiker PrA Gärtnerei | B17: =SUMIF('Escada Data'!C$5:C$828,A17,'Escada Data'!D$5:D$828) -> 80 | C17: =SUMIF('Escada Data'!C$5:C$828,A17,'Escada Data'!E$5:E$828) -> 80
A18: Praktiker PrA Schreinerei | B18: =SUMIF('Escada Data'!C$5:C$828,A18,'Escada Data'!D$5:D$828) -> 61 | C18: =SUMIF('Escada Data'!C$5:C$828,A18,'Escada Data'!E$5:E$828) -> 64
A19: Praktiker PrA Restaurant | B19: =SUMIF('Escada Data'!C$5:C$828,A19,'Escada Data'!D$5:D$828) -> 51 | C19: =SUMIF('Escada Data'!C$5:C$828,A19,'Escada Data'!E$5:E$828) -> 48
A20: Praktiker PrA Mechanik | B20: =SUMIF('Escada Data'!C$5:C$828,A20,'Escada Data'!D$5:D$828) -> 36 | C20: =SUMIF('Escada Data'!C$5:C$828,A20,'Escada Data'!E$5:E$828) -> 35
A21: Praktiker PrA Zweirad | B21: =SUMIF('Escada Data'!C$5:C$828,A21,'Escada Data'!D$5:D$828) -> 30 | C21: =SUMIF('Escada Data'!C$5:C$828,A21,'Escada Data'!E$5:E$828) -> 16
A22: Praktiker PrA Büroarbeiten | B22: =SUMIF('Escada Data'!C$5:C$828,A22,'Escada Data'!D$5:D$828) -> 27 | C22: =SUMIF('Escada Data'!C$5:C$828,A22,'Escada Data'!E$5:E$828) -> 36
... A59: Praktiker PrA Hundecoiffeursalon | B59: =SUMIF('Escada Data'!C$5:C$828,A59,'Escada Data'!D$5:D$828) -> 0 | C59: =SUMIF('Escada Data'!C$5:C$828,A59,'Escada Data'!E$5:E$828) -> 1
A60: Anzahl PrA Lernende nach Berufsverzeichnis | B60: =SUBTOTAL(109,B11:B59) -> 1114 | C60: =SUBTOTAL(109,C11:C59) -> 1047
A64: Stand│État : Juillet 2025
A65: Quelle│Source : INSOS (Föderation ARTISET)
A66: © INSOS 2025
A67: Die Vervielfältigung ist erlaubt, sofern die Quelle angegeben wird und keine kommerziellen Zwecke verfolgt werden│La reproduction est autorisée, sauf à des fins commerciales, si la source est mentionnée
A69: Kontaktperson│Renseignements : Rocco Brignoli, Wissenschaftlicher Mitarbeiter Arbeitswelt, pra@insos.ch│Collaborateur scientifique Monde du travail, fpra@insos.ch

Sheet T2
A2: PrA – Schliesst eine Lücke im Bildungssystem│www.praktischeausbildung.ch
A3: FPra – Comble une lacune dans le système éducatif│www.formationpratique.ch
A5: PrA Lernende nach Kanton
A6: Apprenti·es FPra par canton
A7: 1. Lehrjahr / 2. Lehrjahr - Datenexport : 14.02.2025
A8: Kanton | B8: Anzahl Lernende 1. Lehrjahr | C8: Anzahl Lernende 2. Lehrjahr
A9: ZH | B9: =SUMIF('Escada Data'!B$5:B$828,A9,'Escada Data'!D$5:D$828) -> 228 | C9: =SUMIF('Escada Data'!B$5:B$828,A9,'Escada Data'!E$5:E$828) -> 214
A10: BE | B10: =SUMIF('Escada Data'!B$5:B$828,A10,'Escada Data'!D$5:D$828) -> 191 | C10: =SUMIF('Escada Data'!B$5:B$828,A10,'Escada Data'!E$5:E$828) -> 181
A11: VD | B11: =SUMIF('Escada Data'!B$5:B$828,A11,'Escada Data'!D$5:D$828) -> 142 | C11: =SUMIF('Escada Data'!B$5:B$828,A11,'Escada Data'!E$5:E$828) -> 132
A12: SG | B12: =SUMIF('Escada Data'!B$5:B$828,A12,'Escada Data'!D$5:D$828) -> 87 | C12: =SUMIF('Escada Data'!B$5:B$828,A12,'Escada Data'!E$5:E$828) -> 95
A13: AG | B13: =SUMIF('Escada Data'!B$5:B$828,A13,'Escada Data'!D$5:D$828) -> 73 | C13: =SUMIF('Escada Data'!B$5:B$828,A13,'Escada Data'!E$5:E$828) -> 63
A14: BS | B14: =SUMIF('Escada Data'!B$5:B$828,A14,'Escada Data'!D$5:D$828) -> 52 | C14: =SUMIF('Escada Data'!B$5:B$828,A14,'Escada Data'!E$5:E$828) -> 47
A15: VS | B15: =SUMIF('Escada Data'!B$5:B$828,A15,'Escada Data'!D$5:D$828) -> 46 | C15: =SUMIF('Escada Data'!B$5:B$828,A15,'Escada Data'!E$5:E$828) -> 14
A16: TG | B16: =SUMIF('Escada Data'!B$5:B$828,A16,'Escada Data'!D$5:D$828) -> 42 | C16: =SUMIF('Escada Data'!B$5:B$828,A16,'Escada Data'!E$5:E$828) -> 33
A17: FR | B17: =SUMIF('Escada Data'!B$5:B$828,A17,'Escada Data'!D$5:D$828) -> 40 | C17: =SUMIF('Escada Data'!B$5:B$828,A17,'Escada Data'!E$5:E$828) -> 22
A18: LU | B18: =SUMIF('Escada Data'!B$5:B$828,A18,'Escada Data'!D$5:D$828) -> 43 | C18: =SUMIF('Escada Data'!B$5:B$828,A18,'Escada Data'!E$5:E$828) -> 61
A19: SO | B19: =SUMIF('Escada Data'!B$5:B$828,A19,'Escada Data'!D$5:D$828) -> 41 | C19: =SUMIF('Escada Data'!B$5:B$828,A19,'Escada Data'!E$5:E$828) -> 58
A20: GR | B20: =SUMIF('Escada Data'!B$5:B$828,A20,'Escada Data'!D$5:D$828) -> 26 | C20: =SUMIF('Escada Data'!B$5:B$828,A20,'Escada Data'!E$5:E$828) -> 27
... A33: JU | B33: =SUMIF('Escada Data'!B$5:B$828,A33,'Escada Data'!D$5:D$828) -> 0 | C33: =SUMIF('Escada Data'!B$5:B$828,A33,'Escada Data'!E$5:E$828) -> 1
A34: Anzahl PrA Lernende nach Kanton | B34: =SUBTOTAL(109,B9:B33) -> 1114 | C34: =SUBTOTAL(109,C9:C33) -> 1047
A38: Stand│État : Juillet 2025
A39: Quelle│Source : INSOS (Föderation ARTISET)
A40: © INSOS 2025
A41: Die Vervielfältigung ist erlaubt, sofern die Quelle angegeben wird und keine kommerziellen Zwecke verfolgt werden│La reproduction est autorisée, sauf à des fins commerciales, si la source est mentionnée
A43: Kontaktperson│Renseignements : Rocco Brignoli, Wissenschaftlicher Mitarbeiter Arbeitswelt, pra@insos.ch│Collaborateur scientifique Monde du travail, fpra@insos.ch

Sheet T3
A2: PrA – Schliesst eine Lücke im Bildungssystem│www.praktischeausbildung.ch
A3: FPra – Comble une lacune dans le système éducatif│www.formationpratique.ch
A5: PrA Lernende nach Pra-Bezeichnung und Kanton
A6: Apprenti·es FPra par profession et par canton
A7: 1. Lehrjahr - Datenexport : 14.02.2025
A8: Pra-Bezeichnung | B8: AG | C8: AI | D8: AR | E8: BE | F8: BL | G8: BS | H8: FR | I8: GE | J8: GL | K8: GR | L8: JU | M8: LU | N8: NE | O8: NW | P8: OW | Q8: SG | R8: SH | S8: SO | T8: SZ | U8: TG | V8: UR | W8: VD | X8: VS | Y8: ZG | Z8: ZH
A9: Praktiker PrA Automobil | B9: =SUMIFS('Escada Data'!$D$5:$D$828,'Escada Data'!$B$5:$B$828,B$8,'Escada Data'!$C$5:$C$828,$A9) -> 4 | C9: =SUMIFS('Escada Data'!$D$5:$D$828,'Escada Data'!$B$5:$B$828,C$8,'Escada Data'!$C$5:$C$828,$A9) -> 0 | D9: =SUMIFS('Escada Data'!$D$5:$D$828,'Escada Data'!$B$5:$B$828,D$8,'Escada Data'!$C$5:$C$828,$A9) -> 0 | E9: =SUMIFS('Escada Data'!$D$5:$D$828,'Escada Data'!$B$5:$B$828,E$8,'Escada Data'!$C$5:$C$828,$A9) -> 3 | F9: =SUMIFS('Escada Data'!$D$5:$D$828,'Escada Data'!$B$5:$B$828,F$8,'Escada Data'!$C$5:$C$828,$A9) -> 2 | G9: =SUMIFS('Escada Data'!$D$5:$D$828,'Escada Data'!$B$5:$B$828,G$8,'Escada Data'!$C$5:$C$828,$A9) -> 0 | H9: =SUMIFS('Escada Data'!$D$5:$D$828,'Escada Data'!$B$5:$B$828,H$8,'Escada Data'!$C$5:$C$828,$A9) -> 0 | I9: =SUMIFS('Escada Data'!$D$5:$D$828,'Escada Data'!$B$5:$B$828,I$8,'Escada Data'!$C$5:$C$828,$A9) -> 0 | ... Z9: =SUMIFS('Escada Data'!$D$5:$D$828,'Escada Data'!$B$5:$B$828,Z$8,'Escada Data'!$C$5:$C$828,$A9) -> 0
A10: Praktiker PrA Bäckerei-Konditorei-Confiserie | B10: =SUMIFS('Escada Data'!$D$5:$D$828,'Escada Data'!$B$5:$B$828,B$8,'Escada Data'!$C$5:$C$828,$A10) -> 0 | C10: =SUMIFS('Escada Data'!$D$5:$D$828,'Escada Data'!$B$5:$B$828,C$8,'Escada Data'!$C$5:$C$828,$A10) -> 0 | D10: =SUMIFS('Escada Data'!$D$5:$D$828,'Escada Data'!$B$5:$B$828,D$8,'Escada Data'!$C$5:$C$828,$A10) -> 0 | E10: =SUMIFS('Escada Data'!$D$5:$D$828,'Escada Data'!$B$5:$B$828,E$8,'Escada Data'!$C$5:$C$828,$A10) -> 4 | F10: =SUMIFS('Escada Data'!$D$5:$D$828,'Escada Data'!$B$5:$B$828,F$8,'Escada Data'!$C$5:$C$828,$A10) -> 0 | G10: =SUMIFS('Escada Data'!$D$5:$D$828,'Escada Data'!$B$5:$B$828,G$8,'Escada Data'!$C$5:$C$828,$A10) -> 0 | H10: =SUMIFS('Escada Data'!$D$5:$D$828,'Escada Data'!$B$5:$B$828,H$8,'Escada Data'!$C$5:$C$828,$A10) -> 3 | I10: =SUMIFS('Escada Data'!$D$5:$D$828,'Escada Data'!$B$5:$B$828,I$8,'Escada Data'!$C$5:$C$828,$A10) -> 0 | ... Z10: =SUMIFS('Escada Data'!$D$5:$D$828,'Escada Data'!$B$5:$B$828,Z$8,'Escada Data'!$C$5:$C$828,$A10) -> 6
A11: Praktiker PrA Bau | B11: =SUMIFS('Escada Data'!$D$5:$D$828,'Escada Data'!$B$5:$B$828,B$8,'Escada Data'!$C$5:$C$828,$A11) -> 1 | C11: =SUMIFS('Escada Data'!$D$5:$D$828,'Escada Data'!$B$5:$B$828,C$8,'Escada Data'!$C$5:$C$828,$A11) -> 0 | D11: =SUMIFS('Escada Data'!$D$5:$D$828,'Escada Data'!$B$5:$B$828,D$8,'Escada Data'!$C$5:$C$828,$A11) -> 0 | E11: =SUMIFS('Escada Data'!$D$5:$D$828,'Escada Data'!$B$5:$B$828,E$8,'Escada Data'!$C$5:$C$828,$A11) -> 1 | F11: =SUMIFS('Escada Data'!$D$5:$D$828,'Escada Data'!$B$5:$B$828,F$8,'Escada Data'!$C$5:$C$828,$A11) -> 0 | G11: =SUMIFS('Escada Data'!$D$5:$D$828,'Escada Data'!$B$5:$B$828,G$8,'Escada Data'!$C$5:$C$828,$A11) -> 0 | H11: =SUMIFS('Escada Data'!$D$5:$D$828,'Escada Data'!$B$5:$B$828,H$8,'Escada Data'!$C$5:$C$828,$A11) -> 1 | I11: =SUMIFS('Escada Data'!$D$5:$D$828,'Escada Data'!$B$5:$B$828,I$8,'Escada Data'!$C$5:$C$828,$A11) -> 0 | ... Z11: =SUMIFS('Escada Data'!$D$5:$D$828,'Escada Data'!$B$5:$B$828,Z$8,'Escada Data'!$C$5:$C$828,$A11) -> 0
A12: Praktiker PrA Begleitung und Betreuung Erwachsene | B12: =SUMIFS('Escada Data'!$D$5:$D$828,'Escada Data'!$B$5:$B$828,B$8,'Escada Data'!$C$5:$C$828,$A12) -> 0 | C12: =SUMIFS('Escada Data'!$D$5:$D$828,'Escada Data'!$B$5:$B$828,C$8,'Escada Data'!$C$5:$C$828,$A12) -> 0 | D12: =SUMIFS('Escada Data'!$D$5:$D$828,'Escada Data'!$B$5:$B$828,D$8,'Escada Data'!$C$5:$C$828,$A12) -> 0 | E12: =SUMIFS('Escada Data'!$D$5:$D$828,'Escada Data'!$B$5:$B$828,E$8,'Escada Data'!$C$5:$C$828,$A12) -> 0 | F12: =SUMIFS('Escada Data'!$D$5:$D$828,'Escada Data'!$B$5:$B$828,F$8,'Escada Data'!$C$5:$C$828,$A12) -> 0 | G12: =SUMIFS('Escada Data'!$D$5:$D$828,'Escada Data'!$B$5:$B$828,G$8,'Escada Data'!$C$5:$C$828,$A12) -> 0 | H12: =SUMIFS('Escada Data'!$D$5:$D$828,'Escada Data'!$B$5:$B$828,H$8,'Escada Data'!$C$5:$C$828,$A12) -> 0 | I12: =SUMIFS('Escada Data'!$D$5:$D$828,'Escada Data'!$B$5:$B$828,I$8,'Escada Data'!$C$5:$C$828,$A12) -> 0 | ... Z12: =SUMIFS('Escada Data'!$D$5:$D$828,'Escada Data'!$B$5:$B$828,Z$8,'Escada Data'!$C$5:$C$828,$A12) -> 1
A13: Praktiker PrA Betriebsunterhalt | B13: =SUMIFS('Escada Data'!$D$5:$D$828,'Escada Data'!$B$5:$B$828,B$8,'Escada Data'!$C$5:$C$828,$A13) -> 7 | C13: =SUMIFS('Escada Data'!$D$5:$D$828,'Escada Data'!$B$5:$B$828,C$8,'Escada Data'!$C$5:$C$828,$A13) -> 0 | D13: =SUMIFS('Escada Data'!$D$5:$D$828,'Escada Data'!$B$5:$B$828,D$8,'Escada Data'!$C$5:$C$828,$A13) -> 1 | E13: =SUMIFS('Escada Data'!$D$5:$D$828,'Escada Data'!$B$5:$B$828,E$8,'Escada Data'!$C$5:$C$828,$A13) -> 9 | F13: =SUMIFS('Escada Data'!$D$5:$D$828,'Escada Data'!$B$5:$B$828,F$8,'Escada Data'!$C$5:$C$828,$A13) -> 2 | G13: =SUMIFS('Escada Data'!$D$5:$D$828,'Escada Data'!$B$5:$B$828,G$8,'Escada Data'!$C$5:$C$828,$A13) -> 4 | H13: =SUMIFS('Escada Data'!$D$5:$D$828,'Escada Data'!$B$5:$B$828,H$8,'Escada Data'!$C$5:$C$828,$A13) -> 2 | I13: =SUMIFS('Escada Data'!$D$5:$D$828,'Escada Data'!$B$5:$B$828,I$8,'Escada Data'!$C$5:$C$828,$A13) -> 0 | ... Z13: =SUMIFS('Escada Data'!$D$5:$D$828,'Escada Data'!$B$5:$B$828,Z$8,'Escada Data'!$C$5:$C$828,$A13) -> 29
A14: Praktiker PrA Bodenlegen | B14: =SUMIFS('Escada Data'!$D$5:$D$828,'Escada Data'!$B$5:$B$828,B$8,'Escada Data'!$C$5:$C$828,$A14) -> 0 | C14: =SUMIFS('Escada Data'!$D$5:$D$828,'Escada Data'!$B$5:$B$828,C$8,'Escada Data'!$C$5:$C$828,$A14) -> 0 | D14: =SUMIFS('Escada Data'!$D$5:$D$828,'Escada Data'!$B$5:$B$828,D$8,'Escada Data'!$C$5:$C$828,$A14) -> 0 | E14: =SUMIFS('Escada Data'!$D$5:$D$828,'Escada Data'!$B$5:$B$828,E$8,'Escada Data'!$C$5:$C$828,$A14) -> 0 | F14: =SUMIFS('Escada Data'!$D$5:$D$828,'Escada Data'!$B$5:$B$828,F$8,'Escada Data'!$C$5:$C$828,$A14) -> 0 | G14: =SUMIFS('Escada Data'!$D$5:$D$828,'Escada Data'!$B$5:$B$828,G$8,'Escada Data'!$C$5:$C$828,$A14) -> 0 | H14: =SUMIFS('Escada Data'!$D$5:$D$828,'Escada Data'!$B$5:$B$828,H$8,'Escada Data'!$C$5:$C$828,$A14) -> 0 | I14: =SUMIFS('Escada Data'!$D$5:$D$828,'Escada Data'!$B$5:$B$828,I$8,'Escada Data'!$C$5:$C$828,$A14) -> 0 | ... Z14: =SUMIFS('Escada Data'!$D$5:$D$828,'Escada Data'!$B$5:$B$828,Z$8,'Escada Data'!$C$5:$C$828,$A14) -> 0
A15: Praktiker PrA Büroarbeiten | B15: =SUMIFS('Escada Data'!$D$5:$D$828,'Escada Data'!$B$5:$B$828,B$8,'Escada Data'!$C$5:$C$828,$A15) -> 0 | C15: =SUMIFS('Escada Data'!$D$5:$D$828,'Escada Data'!$B$5:$B$828,C$8,'Escada Data'!$C$5:$C$828,$A15) -> 0 | D15: =SUMIFS('Escada Data'!$D$5:$D$828,'Escada Data'!$B$5:$B$828,D$8,'Escada Data'!$C$5:$C$828,$A15) -> 0 | E15: =SUMIFS('Escada Data'!$D$5:$D$828,'Escada Data'!$B$5:$B$828,E$8,'Escada Data'!$C$5:$C$828,$A15) -> 2 | F15: =SUMIFS('Escada Data'!$D$5:$D$828,'Escada Data'!$B$5:$B$828,F$8,'Escada Data'!$C$5:$C$828,$A15) -> 1 | G15: =SUMIFS('Escada Data'!$D$5:$D$828,'Escada Data'!$B$5:$B$828,G$8,'Escada Data'!$C$5:$C$828,$A15) -> 2 | H15: =SUMIFS('Escada Data'!$D$5:$D$828,'Escada Data'!$B$5:$B$828,H$8,'Escada Data'!$C$5:$C$828,$A15) -> 0 | I15: =SUMIFS('Escada Data'!$D$5:$D$828,'Escada Data'!$B$5:$B$828,I$8,'Escada Data'!$C$5:$C$828,$A15) -> 3 | ... Z15: =SUMIFS('Escada Data'!$D$5:$D$828,'Escada Data'!$B$5:$B$828,Z$8,'Escada Data'!$C$5:$C$828,$A15) -> 5
A16: Praktiker PrA Carrosserie | B16: =SUMIFS('Escada Data'!$D$5:$D$828,'Escada Data'!$B$5:$B$828,B$8,'Escada Data'!$C$5:$C$828,$A16) -> 0 | C16: =SUMIFS('Escada Data'!$D$5:$D$828,'Escada Data'!$B$5:$B$828,C$8,'Escada Data'!$C$5:$C$828,$A16) -> 0 | D16: =SUMIFS('Escada Data'!$D$5:$D$828,'Escada Data'!$B$5:$B$828,D$8,'Escada Data'!$C$5:$C$828,$A16) -> 0 | E16: =SUMIFS('Escada Data'!$D$5:$D$828,'Escada Data'!$B$5:$B$828,E$8,'Escada Data'!$C$5:$C$828,$A16) -> 2 | F16: =SUMIFS('Escada Data'!$D$5:$D$828,'Escada Data'!$B$5:$B$828,F$8,'Escada Data'!$C$5:$C$828,$A16) -> 0 | G16: =SUMIFS('Escada Data'!$D$5:$D$828,'Escada Data'!$B$5:$B$828,G$8,'Escada Data'!$C$5:$C$828,$A16) -> 0 | H16: =SUMIFS('Escada Data'!$D$5:$D$828,'Escada Data'!$B$5:$B$828,H$8,'Escada Data'!$C$5:$C$828,$A16) -> 0 | I16: =SUMIFS('Escada Data'!$D$5:$D$828,'Escada Data'!$B$5:$B$828,I$8,'Escada Data'!$C$5:$C$828,$A16) -> 0 | ... Z16: =SUMIFS('Escada Data'!$D$5:$D$828,'Escada Data'!$B$5:$B$828,Z$8,'Escada Data'!$C$5:$C$828,$A16) -> 1
A17: Praktiker PrA Coiffeursalon | B17: =SUMIFS('Escada Data'!$D$5:$D$828,'Escada Data'!$B$5:$B$828,B$8,'Escada Data'!$C$5:$C$828,$A17) -> 0 | C17: =SUMIFS('Escada Data'!$D$5:$D$828,'Escada Data'!$B$5:$B$828,C$8,'Escada Data'!$C$5:$C$828,$A17) -> 0 | D17: =SUMIFS('Escada Data'!$D$5:$D$828,'Escada Data'!$B$5:$B$828,D$8,'Escada Data'!$C$5:$C$828,$A17) -> 0 | E17: =SUMIFS('Escada Data'!$D$5:$D$828,'Escada Data'!$B$5:$B$828,E$8,'Escada Data'!$C$5:$C$828,$A17) -> 0 | F17: =SUMIFS('Escada Data'!$D$5:$D$828,'Escada Data'!$B$5:$B$828,F$8,'Escada Data'!$C$5:$C$828,$A17) -> 0 | G17: =SUMIFS('Escada Data'!$D$5:$D$828,'Escada Data'!$B$5:$B$828,G$8,'Escada Data'!$C$5:$C$828,$A17) -> 0 | H17: =SUMIFS('Escada Data'!$D$5:$D$828,'Escada Data'!$B$5:$B$828,H$8,'Escada Data'!$C$5:$C$828,$A17) -> 0 | I17: =SUMIFS('Escada Data'!$D$5:$D$828,'Escada Data'!$B$5:$B$828,I$8,'Escada Data'!$C$5:$C$828,$A17) -> 0 | ... Z17: =SUMIFS('Escada Data'!$D$5:$D$828,'Escada Data'!$B$5:$B$828,Z$8,'Escada Data'!$C$5:$C$828,$A17) -> 4
A18: Praktiker PrA Dentalpraxis | B18: =SUMIFS('Escada Data'!$D$5:$D$828,'Escada Data'!$B$5:$B$828,B$8,'Escada Data'!$C$5:$C$828,$A18) -> 0 | C18: =SUMIFS('Escada Data'!$D$5:$D$828,'Escada Data'!$B$5:$B$828,C$8,'Escada Data'!$C$5:$C$828,$A18) -> 0 | D18: =SUMIFS('Escada Data'!$D$5:$D$828,'Escada Data'!$B$5:$B$828,D$8,'Escada Data'!$C$5:$C$828,$A18) -> 0 | E18: =SUMIFS('Escada Data'!$D$5:$D$828,'Escada Data'!$B$5:$B$828,E$8,'Escada Data'!$C$5:$C$828,$A18) -> 0 | F18: =SUMIFS('Escada Data'!$D$5:$D$828,'Escada Data'!$B$5:$B$828,F$8,'Escada Data'!$C$5:$C$828,$A18) -> 0 | G18: =SUMIFS('Escada Data'!$D$5:$D$828,'Escada Data'!$B$5:$B$828,G$8,'Escada Data'!$C$5:$C$828,$A18) -> 0 | H18: =SUMIFS('Escada Data'!$D$5:$D$828,'Escada Data'!$B$5:$B$828,H$8,'Escada Data'!$C$5:$C$828,$A18) -> 0 | I18: =SUMIFS('Escada Data'!$D$5:$D$828,'Escada Data'!$B$5:$B$828,I$8,'Escada Data'!$C$5:$C$828,$A18) -> 0 | ... Z18: =SUMIFS('Escada Data'!$D$5:$D$828,'Escada Data'!$B$5:$B$828,Z$8,'Escada Data'!$C$5:$C$828,$A18) -> 0
A19: Praktiker PrA Detailhandel | B19: =SUMIFS('Escada Data'!$D$5:$D$828,'Escada Data'!$B$5:$B$828,B$8,'Escada Data'!$C$5:$C$828,$A19) -> 3 | C19: =SUMIFS('Escada Data'!$D$5:$D$828,'Escada Data'!$B$5:$B$828,C$8,'Escada Data'!$C$5:$C$828,$A19) -> 0 | D19: =SUMIFS('Escada Data'!$D$5:$D$828,'Escada Data'!$B$5:$B$828,D$8,'Escada Data'!$C$5:$C$828,$A19) -> 1 | E19: =SUMIFS('Escada Data'!$D$5:$D$828,'Escada Data'!$B$5:$B$828,E$8,'Escada Data'!$C$5:$C$828,$A19) -> 12 | F19: =SUMIFS('Escada Data'!$D$5:$D$828,'Escada Data'!$B$5:$B$828,F$8,'Escada Data'!$C$5:$C$828,$A19) -> 1 | G19: =SUMIFS('Escada Data'!$D$5:$D$828,'Escada Data'!$B$5:$B$828,G$8,'Escada Data'!$C$5:$C$828,$A19) -> 14 | H19: =SUMIFS('Escada Data'!$D$5:$D$828,'Escada Data'!$B$5:$B$828,H$8,'Escada Data'!$C$5:$C$828,$A19) -> 1 | I19: =SUMIFS('Escada Data'!$D$5:$D$828,'Escada Data'!$B$5:$B$828,I$8,'Escada Data'!$C$5:$C$828,$A19) -> 0 | ... Z19: =SUMIFS('Escada Data'!$D$5:$D$828,'Escada Data'!$B$5:$B$828,Z$8,'Escada Data'!$C$5:$C$828,$A19) -> 26
A20: Praktiker PrA Edelsteinfassungen | B20: =SUMIFS('Escada Data'!$D$5:$D$828,'Escada Data'!$B$5:$B$828,B$8,'Escada Data'!$C$5:$C$828,$A20) -> 0 | C20: =SUMIFS('Escada Data'!$D$5:$D$828,'Escada Data'!$B$5:$B$828,C$8,'Escada Data'!$C$5:$C$828,$A20) -> 0 | D20: =SUMIFS('Escada Data'!$D$5:$D$828,'Escada Data'!$B$5:$B$828,D$8,'Escada Data'!$C$5:$C$828,$A20) -> 0 | E20: =SUMIFS('Escada Data'!$D$5:$D$828,'Escada Data'!$B$5:$B$828,E$8,'Escada Data'!$C$5:$C$828,$A20) -> 0 | F20: =SUMIFS('Escada Data'!$D$5:$D$828,'Escada Data'!$B$5:$B$828,F$8,'Escada Data'!$C$5:$C$828,$A20) -> 0 | G20: =SUMIFS('Escada Data'!$D$5:$D$828,'Escada Data'!$B$5:$B$828,G$8,'Escada Data'!$C$5:$C$828,$A20) -> 0 | H20: =SUMIFS('Escada Data'!$D$5:$D$828,'Escada Data'!$B$5:$B$828,H$8,'Escada Data'!$C$5:$C$828,$A20) -> 0 | I20: =SUMIFS('Escada Data'!$D$5:$D$828,'Escada Data'!$B$5:$B$828,I$8,'Escada Data'!$C$5:$C$828,$A20) -> 0 | ... Z20: =SUMIFS('Escada Data'!$D$5:$D$828,'Escada Data'!$B$5:$B$828,Z$8,'Escada Data'!$C$5:$C$828,$A20) -> 0
... A57: Praktiker PrA Zweirad | B57: =SUMIFS('Escada Data'!$D$5:$D$828,'Escada Data'!$B$5:$B$828,B$8,'Escada Data'!$C$5:$C$828,$A57) -> 5 | C57: =SUMIFS('Escada Data'!$D$5:$D$828,'Escada Data'!$B$5:$B$828,C$8,'Escada Data'!$C$5:$C$828,$A57) -> 0 | D57: =SUMIFS('Escada Data'!$D$5:$D$828,'Escada Data'!$B$5:$B$828,D$8,'Escada Data'!$C$5:$C$828,$A57) -> 0 | E57: =SUMIFS('Escada Data'!$D$5:$D$828,'Escada Data'!$B$5:$B$828,E$8,'Escada Data'!$C$5:$C$828,$A57) -> 6 | F57: =SUMIFS('Escada Data'!$D$5:$D$828,'Escada Data'!$B$5:$B$828,F$8,'Escada Data'!$C$5:$C$828,$A57) -> 1 | G57: =SUMIFS('Escada Data'!$D$5:$D$828,'Escada Data'!$B$5:$B$828,G$8,'Escada Data'!$C$5:$C$828,$A57) -> 4 | H57: =SUMIFS('Escada Data'!$D$5:$D$828,'Escada Data'!$B$5:$B$828,H$8,'Escada Data'!$C$5:$C$828,$A57) -> 0 | I57: =SUMIFS('Escada Data'!$D$5:$D$828,'Escada Data'!$B$5:$B$828,I$8,'Escada Data'!$C$5:$C$828,$A57) -> 1 | ... Z57: =SUMIFS('Escada Data'!$D$5:$D$828,'Escada Data'!$B$5:$B$828,Z$8,'Escada Data'!$C$5:$C$828,$A57) -> 10
A58: Anzahl PrA Lernende pro Kanton | B58: =SUBTOTAL(109,B9:B57) -> 73 | C58: =SUBTOTAL(109,C9:C57) -> 4 | D58: =SUBTOTAL(109,D9:D57) -> 6 | E58: =SUBTOTAL(109,E9:E57) -> 191 | F58: =SUBTOTAL(109,F9:F57) -> 17 | G58: =SUBTOTAL(109,G9:G57) -> 52 | H58: =SUBTOTAL(109,H9:H57) -> 40 | I58: =SUBTOTAL(109,I9:I57) -> 24 | ... Z58: =SUBTOTAL(109,Z9:Z57) -> 228
A63: Stand│État : Juillet 2025
A64: Quelle│Source : INSOS (Föderation ARTISET)
A65: © INSOS 2025
A66: Die Vervielfältigung ist erlaubt, sofern die Quelle angegeben wird und keine kommerziellen Zwecke verfolgt werden│La reproduction est autorisée, sauf à des fins commerciales, si la source est mentionnée
A68: Kontaktperson│Renseignements : Rocco Brignoli, Wissenschaftlicher Mitarbeiter Arbeitswelt, pra@insos.ch│Collaborateur scientifique Monde du travail, fpra@insos.ch

Sheet T4
A2: PrA – Schliesst eine Lücke im Bildungssystem│www.praktischeausbildung.ch
A3: FPra – Comble une lacune dans le système éducatif│www.formationpratique.ch
A5: PrA Lernende nach Pra-Bezeichnung und Kanton
A6: Apprenti·es FPra par profession et par canton
A7: 2. Lehrjahr - Datenexport : 14.02.2025
A8: Pra-Bezeichnung | B8: AG | C8: AI | D8: AR | E8: BE | F8: BL | G8: BS | H8: FR | I8: GE | J8: GL | K8: GR | L8: JU | M8: LU | N8: NE | O8: NW | P8: OW | Q8: SG | R8: SH | S8: SO | T8: SZ | U8: TG | V8: UR | W8: VD | X8: VS | Y8: ZG | Z8: ZH
A9: Praktiker PrA Automobil | B9: =SUMIFS('Escada Data'!$E$5:$E$828,'Escada Data'!$B$5:$B$828,B$8,'Escada Data'!$C$5:$C$828,$A9) -> 3 | C9: =SUMIFS('Escada Data'!$E$5:$E$828,'Escada Data'!$B$5:$B$828,C$8,'Escada Data'!$C$5:$C$828,$A9) -> 0 | D9: =SUMIFS('Escada Data'!$E$5:$E$828,'Escada Data'!$B$5:$B$828,D$8,'Escada Data'!$C$5:$C$828,$A9) -> 0 | E9: =SUMIFS('Escada Data'!$E$5:$E$828,'Escada Data'!$B$5:$B$828,E$8,'Escada Data'!$C$5:$C$828,$A9) -> 2 | F9: =SUMIFS('Escada Data'!$E$5:$E$828,'Escada Data'!$B$5:$B$828,F$8,'Escada Data'!$C$5:$C$828,$A9) -> 1 | G9: =SUMIFS('Escada Data'!$E$5:$E$828,'Escada Data'!$B$5:$B$828,G$8,'Escada Data'!$C$5:$C$828,$A9) -> 0 | H9: =SUMIFS('Escada Data'!$E$5:$E$828,'Escada Data'!$B$5:$B$828,H$8,'Escada Data'!$C$5:$C$828,$A9) -> 0 | I9: =SUMIFS('Escada Data'!$E$5:$E$828,'Escada Data'!$B$5:$B$828,I$8,'Escada Data'!$C$5:$C$828,$A9) -> 0 | ... Z9: =SUMIFS('Escada Data'!$E$5:$E$828,'Escada Data'!$B$5:$B$828,Z$8,'Escada Data'!$C$5:$C$828,$A9) -> 2
A10: Praktiker PrA Bäckerei-Konditorei-Confiserie | B10: =SUMIFS('Escada Data'!$E$5:$E$828,'Escada Data'!$B$5:$B$828,B$8,'Escada Data'!$C$5:$C$828,$A10) -> 1 | C10: =SUMIFS('Escada Data'!$E$5:$E$828,'Escada Data'!$B$5:$B$828,C$8,'Escada Data'!$C$5:$C$828,$A10) -> 0 | D10: =SUMIFS('Escada Data'!$E$5:$E$828,'Escada Data'!$B$5:$B$828,D$8,'Escada Data'!$C$5:$C$828,$A10) -> 0 | E10: =SUMIFS('Escada Data'!$E$5:$E$828,'Escada Data'!$B$5:$B$828,E$8,'Escada Data'!$C$5:$C$828,$A10) -> 2 | F10: =SUMIFS('Escada Data'!$E$5:$E$828,'Escada Data'!$B$5:$B$828,F$8,'Escada Data'!$C$5:$C$828,$A10) -> 0 | G10: =SUMIFS('Escada Data'!$E$5:$E$828,'Escada Data'!$B$5:$B$828,G$8,'Escada Data'!$C$5:$C$828,$A10) -> 0 | H10: =SUMIFS('Escada Data'!$E$5:$E$828,'Escada Data'!$B$5:$B$828,H$8,'Escada Data'!$C$5:$C$828,$A10) -> 0 | I10: =SUMIFS('Escada Data'!$E$5:$E$828,'Escada Data'!$B$5:$B$828,I$8,'Escada Data'!$C$5:$C$828,$A10) -> 3 | ... Z10: =SUMIFS('Escada Data'!$E$5:$E$828,'Escada Data'!$B$5:$B$828,Z$8,'Escada Data'!$C$5:$C$828,$A10) -> 6
A11: Praktiker PrA Bau | B11: =SUMIFS('Escada Data'!$E$5:$E$828,'Escada Data'!$B$5:$B$828,B$8,'Escada Data'!$C$5:$C$828,$A11) -> 0 | C11: =SUMIFS('Escada Data'!$E$5:$E$828,'Escada Data'!$B$5:$B$828,C$8,'Escada Data'!$C$5:$C$828,$A11) -> 0 | D11: =SUMIFS('Escada Data'!$E$5:$E$828,'Escada Data'!$B$5:$B$828,D$8,'Escada Data'!$C$5:$C$828,$A11) -> 0 | E11: =SUMIFS('Escada Data'!$E$5:$E$828,'Escada Data'!$B$5:$B$828,E$8,'Escada Data'!$C$5:$C$828,$A11) -> 1 | F11: =SUMIFS('Escada Data'!$E$5:$E$828,'Escada Data'!$B$5:$B$828,F$8,'Escada Data'!$C$5:$C$828,$A11) -> 0 | G11: =SUMIFS('Escada Data'!$E$5:$E$828,'Escada Data'!$B$5:$B$828,G$8,'Escada Data'!$C$5:$C$828,$A11) -> 0 | H11: =SUMIFS('Escada Data'!$E$5:$E$828,'Escada Data'!$B$5:$B$828,H$8,'Escada Data'!$C$5:$C$828,$A11) -> 1 | I11: =SUMIFS('Escada Data'!$E$5:$E$828,'Escada Data'!$B$5:$B$828,I$8,'Escada Data'!$C$5:$C$828,$A11) -> 0 | ... Z11: =SUMIFS('Escada Data'!$E$5:$E$828,'Escada Data'!$B$5:$B$828,Z$8,'Escada Data'!$C$5:$C$828,$A11) -> 0
A12: Praktiker PrA Begleitung und Betreuung Erwachsene | B12: =SUMIFS('Escada Data'!$E$5:$E$828,'Escada Data'!$B$5:$B$828,B$8,'Escada Data'!$C$5:$C$828,$A12) -> 0 | C12: =SUMIFS('Escada Data'!$E$5:$E$828,'Escada Data'!$B$5:$B$828,C$8,'Escada Data'!$C$5:$C$828,$A12) -> 0 | D12: =SUMIFS('Escada Data'!$E$5:$E$828,'Escada Data'!$B$5:$B$828,D$8,'Escada Data'!$C$5:$C$828,$A12) -> 0 | E12: =SUMIFS('Escada Data'!$E$5:$E$828,'Escada Data'!$B$5:$B$828,E$8,'Escada Data'!$C$5:$C$828,$A12) -> 0 | F12: =SUMIFS('Escada Data'!$E$5:$E$828,'Escada Data'!$B$5:$B$828,F$8,'Escada Data'!$C$5:$C$828,$A12) -> 0 | G12: =SUMIFS('Escada Data'!$E$5:$E$828,'Escada Data'!$B$5:$B$828,G$8,'Escada Data'!$C$5:$C$828,$A12) -> 0 | H12: =SUMIFS('Escada Data'!$E$5:$E$828,'Escada Data'!$B$5:$B$828,H$8,'Escada Data'!$C$5:$C$828,$A12) -> 0 | I12: =SUMIFS('Escada Data'!$E$5:$E$828,'Escada Data'!$B$5:$B$828,I$8,'Escada Data'!$C$5:$C$828,$A12) -> 0 | ... Z12: =SUMIFS('Escada Data'!$E$5:$E$828,'Escada Data'!$B$5:$B$828,Z$8,'Escada Data'!$C$5:$C$828,$A12) -> 0
A13: Praktiker PrA Betriebsunterhalt | B13: =SUMIFS('Escada Data'!$E$5:$E$828,'Escada Data'!$B$5:$B$828,B$8,'Escada Data'!$C$5:$C$828,$A13) -> 4 | C13: =SUMIFS('Escada Data'!$E$5:$E$828,'Escada Data'!$B$5:$B$828,C$8,'Escada Data'!$C$5:$C$828,$A13) -> 0 | D13: =SUMIFS('Escada Data'!$E$5:$E$828,'Escada Data'!$B$5:$B$828,D$8,'Escada Data'!$C$5:$C$828,$A13) -> 1 | E13: =SUMIFS('Escada Data'!$E$5:$E$828,'Escada Data'!$B$5:$B$828,E$8,'Escada Data'!$C$5:$C$828,$A13) -> 7 | F13: =SUMIFS('Escada Data'!$E$5:$E$828,'Escada Data'!$B$5:$B$828,F$8,'Escada Data'!$C$5:$C$828,$A13) -> 2 | G13: =SUMIFS('Escada Data'!$E$5:$E$828,'Escada Data'!$B$5:$B$828,G$8,'Escada Data'!$C$5:$C$828,$A13) -> 3 | H13: =SUMIFS('Escada Data'!$E$5:$E$828,'Escada Data'!$B$5:$B$828,H$8,'Escada Data'!$C$5:$C$828,$A13) -> 0 | I13: =SUMIFS('Escada Data'!$E$5:$E$828,'Escada Data'!$B$5:$B$828,I$8,'Escada Data'!$C$5:$C$828,$A13) -> 0 | ... Z13: =SUMIFS('Escada Data'!$E$5:$E$828,'Escada Data'!$B$5:$B$828,Z$8,'Escada Data'!$C$5:$C$828,$A13) -> 27
A14: Praktiker PrA Bodenlegen | B14: =SUMIFS('Escada Data'!$E$5:$E$828,'Escada Data'!$B$5:$B$828,B$8,'Escada Data'!$C$5:$C$828,$A14) -> 0 | C14: =SUMIFS('Escada Data'!$E$5:$E$828,'Escada Data'!$B$5:$B$828,C$8,'Escada Data'!$C$5:$C$828,$A14) -> 0 | D14: =SUMIFS('Escada Data'!$E$5:$E$828,'Escada Data'!$B$5:$B$828,D$8,'Escada Data'!$C$5:$C$828,$A14) -> 0 | E14: =SUMIFS('Escada Data'!$E$5:$E$828,'Escada Data'!$B$5:$B$828,E$8,'Escada Data'!$C$5:$C$828,$A14) -> 0 | F14: =SUMIFS('Escada Data'!$E$5:$E$828,'Escada Data'!$B$5:$B$828,F$8,'Escada Data'!$C$5:$C$828,$A14) -> 0 | G14: =SUMIFS('Escada Data'!$E$5:$E$828,'Escada Data'!$B$5:$B$828,G$8,'Escada Data'!$C$5:$C$828,$A14) -> 0 | H14: =SUMIFS('Escada Data'!$E$5:$E$828,'Escada Data'!$B$5:$B$828,H$8,'Escada Data'!$C$5:$C$828,$A14) -> 0 | I14: =SUMIFS('Escada Data'!$E$5:$E$828,'Escada Data'!$B$5:$B$828,I$8,'Escada Data'!$C$5:$C$828,$A14) -> 0 | ... Z14: =SUMIFS('Escada Data'!$E$5:$E$828,'Escada Data'!$B$5:$B$828,Z$8,'Escada Data'!$C$5:$C$828,$A14) -> 0
A15: Praktiker PrA Büroarbeiten | B15: =SUMIFS('Escada Data'!$E$5:$E$828,'Escada Data'!$B$5:$B$828,B$8,'Escada Data'!$C$5:$C$828,$A15) -> 2 | C15: =SUMIFS('Escada Data'!$E$5:$E$828,'Escada Data'!$B$5:$B$828,C$8,'Escada Data'!$C$5:$C$828,$A15) -> 0 | D15: =SUMIFS('Escada Data'!$E$5:$E$828,'Escada Data'!$B$5:$B$828,D$8,'Escada Data'!$C$5:$C$828,$A15) -> 0 | E15: =SUMIFS('Escada Data'!$E$5:$E$828,'Escada Data'!$B$5:$B$828,E$8,'Escada Data'!$C$5:$C$828,$A15) -> 1 | F15: =SUMIFS('Escada Data'!$E$5:$E$828,'Escada Data'!$B$5:$B$828,F$8,'Escada Data'!$C$5:$C$828,$A15) -> 1 | G15: =SUMIFS('Escada Data'!$E$5:$E$828,'Escada Data'!$B$5:$B$828,G$8,'Escada Data'!$C$5:$C$828,$A15) -> 5 | H15: =SUMIFS('Escada Data'!$E$5:$E$828,'Escada Data'!$B$5:$B$828,H$8,'Escada Data'!$C$5:$C$828,$A15) -> 0 | I15: =SUMIFS('Escada Data'!$E$5:$E$828,'Escada Data'!$B$5:$B$828,I$8,'Escada Data'!$C$5:$C$828,$A15) -> 5 | ... Z15: =SUMIFS('Escada Data'!$E$5:$E$828,'Escada Data'!$B$5:$B$828,Z$8,'Escada Data'!$C$5:$C$828,$A15) -> 6
A16: Praktiker PrA Carrosserie | B16: =SUMIFS('Escada Data'!$E$5:$E$828,'Escada Data'!$B$5:$B$828,B$8,'Escada Data'!$C$5:$C$828,$A16) -> 0 | C16: =SUMIFS('Escada Data'!$E$5:$E$828,'Escada Data'!$B$5:$B$828,C$8,'Escada Data'!$C$5:$C$828,$A16) -> 0 | D16: =SUMIFS('Escada Data'!$E$5:$E$828,'Escada Data'!$B$5:$B$828,D$8,'Escada Data'!$C$5:$C$828,$A16) -> 0 | E16: =SUMIFS('Escada Data'!$E$5:$E$828,'Escada Data'!$B$5:$B$828,E$8,'Escada Data'!$C$5:$C$828,$A16) -> 0 | F16: =SUMIFS('Escada Data'!$E$5:$E$828,'Escada Data'!$B$5:$B$828,F$8,'Escada Data'!$C$5:$C$828,$A16) -> 0 | G16: =SUMIFS('Escada Data'!$E$5:$E$828,'Escada Data'!$B$5:$B$828,G$8,'Escada Data'!$C$5:$C$828,$A16) -> 0 | H16: =SUMIFS('Escada Data'!$E$5:$E$828,'Escada Data'!$B$5:$B$828,H$8,'Escada Data'!$C$5:$C$828,$A16) -> 0 | I16: =SUMIFS('Escada Data'!$E$5:$E$828,'Escada Data'!$B$5:$B$828,I$8,'Escada Data'!$C$5:$C$828,$A16) -> 0 | ... Z16: =SUMIFS('Escada Data'!$E$5:$E$828,'Escada Data'!$B$5:$B$828,Z$8,'Escada Data'!$C$5:$C$828,$A16) -> 1
A17: Praktiker PrA Coiffeursalon | B17: =SUMIFS('Escada Data'!$E$5:$E$828,'Escada Data'!$B$5:$B$828,B$8,'Escada Data'!$C$5:$C$828,$A17) -> 0 | C17: =SUMIFS('Escada Data'!$E$5:$E$828,'Escada Data'!$B$5:$B$828,C$8,'Escada Data'!$C$5:$C$828,$A17) -> 0 | D17: =SUMIFS('Escada Data'!$E$5:$E$828,'Escada Data'!$B$5:$B$828,D$8,'Escada Data'!$C$5:$C$828,$A17) -> 0 | E17: =SUMIFS('Escada Data'!$E$5:$E$828,'Escada Data'!$B$5:$B$828,E$8,'Escada Data'!$C$5:$C$828,$A17) -> 0 | F17: =SUMIFS('Escada Data'!$E$5:$E$828,'Escada Data'!$B$5:$B$828,F$8,'Escada Data'!$C$5:$C$828,$A17) -> 0 | G17: =SUMIFS('Escada Data'!$E$5:$E$828,'Escada Data'!$B$5:$B$828,G$8,'Escada Data'!$C$5:$C$828,$A17) -> 0 | H17: =SUMIFS('Escada Data'!$E$5:$E$828,'Escada Data'!$B$5:$B$828,H$8,'Escada Data'!$C$5:$C$828,$A17) -> 0 | I17: =SUMIFS('Escada Data'!$E$5:$E$828,'Escada Data'!$B$5:$B$828,I$8,'Escada Data'!$C$5:$C$828,$A17) -> 0 | ... Z17: =SUMIFS('Escada Data'!$E$5:$E$828,'Escada Data'!$B$5:$B$828,Z$8,'Escada Data'!$C$5:$C$828,$A17) -> 2
A18: Praktiker PrA Dentalpraxis | B18: =SUMIFS('Escada Data'!$E$5:$E$828,'Escada Data'!$B$5:$B$828,B$8,'Escada Data'!$C$5:$C$828,$A18) -> 0 | C18: =SUMIFS('Escada Data'!$E$5:$E$828,'Escada Data'!$B$5:$B$828,C$8,'Escada Data'!$C$5:$C$828,$A18) -> 0 | D18: =SUMIFS('Escada Data'!$E$5:$E$828,'Escada Data'!$B$5:$B$828,D$8,'Escada Data'!$C$5:$C$828,$A18) -> 0 | E18: =SUMIFS('Escada Data'!$E$5:$E$828,'Escada Data'!$B$5:$B$828,E$8,'Escada Data'!$C$5:$C$828,$A18) -> 0 | F18: =SUMIFS('Escada Data'!$E$5:$E$828,'Escada Data'!$B$5:$B$828,F$8,'Escada Data'!$C$5:$C$828,$A18) -> 0 | G18: =SUMIFS('Escada Data'!$E$5:$E$828,'Escada Data'!$B$5:$B$828,G$8,'Escada Data'!$C$5:$C$828,$A18) -> 0 | H18: =SUMIFS('Escada Data'!$E$5:$E$828,'Escada Data'!$B$5:$B$828,H$8,'Escada Data'!$C$5:$C$828,$A18) -> 0 | I18: =SUMIFS('Escada Data'!$E$5:$E$828,'Escada Data'!$B$5:$B$828,I$8,'Escada Data'!$C$5:$C$828,$A18) -> 0 | ... Z18: =SUMIFS('Escada Data'!$E$5:$E$828,'Escada Data'!$B$5:$B$828,Z$8,'Escada Data'!$C$5:$C$828,$A18) -> 0
A19: Praktiker PrA Detailhandel | B19: =SUMIFS('Escada Data'!$E$5:$E$828,'Escada Data'!$B$5:$B$828,B$8,'Escada Data'!$C$5:$C$828,$A19) -> 3 | C19: =SUMIFS('Escada Data'!$E$5:$E$828,'Escada Data'!$B$5:$B$828,C$8,'Escada Data'!$C$5:$C$828,$A19) -> 0 | D19: =SUMIFS('Escada Data'!$E$5:$E$828,'Escada Data'!$B$5:$B$828,D$8,'Escada Data'!$C$5:$C$828,$A19) -> 0 | E19: =SUMIFS('Escada Data'!$E$5:$E$828,'Escada Data'!$B$5:$B$828,E$8,'Escada Data'!$C$5:$C$828,$A19) -> 13 | F19: =SUMIFS('Escada Data'!$E$5:$E$828,'Escada Data'!$B$5:$B$828,F$8,'Escada Data'!$C$5:$C$828,$A19) -> 0 | G19: =SUMIFS('Escada Data'!$E$5:$E$828,'Escada Data'!$B$5:$B$828,G$8,'Escada Data'!$C$5:$C$828,$A19) -> 11 | H19: =SUMIFS('Escada Data'!$E$5:$E$828,'Escada Data'!$B$5:$B$828,H$8,'Escada Data'!$C$5:$C$828,$A19) -> 2 | I19: =SUMIFS('Escada Data'!$E$5:$E$828,'Escada Data'!$B$5:$B$828,I$8,'Escada Data'!$C$5:$C$828,$A19) -> 0 | ... Z19: =SUMIFS('Escada Data'!$E$5:$E$828,'Escada Data'!$B$5:$B$828,Z$8,'Escada Data'!$C$5:$C$828,$A19) -> 27
A20: Praktiker PrA Edelsteinfassungen | B20: =SUMIFS('Escada Data'!$E$5:$E$828,'Escada Data'!$B$5:$B$828,B$8,'Escada Data'!$C$5:$C$828,$A20) -> 0 | C20: =SUMIFS('Escada Data'!$E$5:$E$828,'Escada Data'!$B$5:$B$828,C$8,'Escada Data'!$C$5:$C$828,$A20) -> 0 | D20: =SUMIFS('Escada Data'!$E$5:$E$828,'Escada Data'!$B$5:$B$828,D$8,'Escada Data'!$C$5:$C$828,$A20) -> 0 | E20: =SUMIFS('Escada Data'!$E$5:$E$828,'Escada Data'!$B$5:$B$828,E$8,'Escada Data'!$C$5:$C$828,$A20) -> 0 | F20: =SUMIFS('Escada Data'!$E$5:$E$828,'Escada Data'!$B$5:$B$828,F$8,'Escada Data'!$C$5:$C$828,$A20) -> 0 | G20: =SUMIFS('Escada Data'!$E$5:$E$828,'Escada Data'!$B$5:$B$828,G$8,'Escada Data'!$C$5:$C$828,$A20) -> 0 | H20: =SUMIFS('Escada Data'!$E$5:$E$828,'Escada Data'!$B$5:$B$828,H$8,'Escada Data'!$C$5:$C$828,$A20) -> 0 | I20: =SUMIFS('Escada Data'!$E$5:$E$828,'Escada Data'!$B$5:$B$828,I$8,'Escada Data'!$C$5:$C$828,$A20) -> 0 | ... Z20: =SUMIFS('Escada Data'!$E$5:$E$828,'Escada Data'!$B$5:$B$828,Z$8,'Escada Data'!$C$5:$C$828,$A20) -> 0
... A57: Praktiker PrA Zweirad | B57: =SUMIFS('Escada Data'!$E$5:$E$828,'Escada Data'!$B$5:$B$828,B$8,'Escada Data'!$C$5:$C$828,$A57) -> 3 | C57: =SUMIFS('Escada Data'!$E$5:$E$828,'Escada Data'!$B$5:$B$828,C$8,'Escada Data'!$C$5:$C$828,$A57) -> 0 | D57: =SUMIFS('Escada Data'!$E$5:$E$828,'Escada Data'!$B$5:$B$828,D$8,'Escada Data'!$C$5:$C$828,$A57) -> 0 | E57: =SUMIFS('Escada Data'!$E$5:$E$828,'Escada Data'!$B$5:$B$828,E$8,'Escada Data'!$C$5:$C$828,$A57) -> 1 | F57: =SUMIFS('Escada Data'!$E$5:$E$828,'Escada Data'!$B$5:$B$828,F$8,'Escada Data'!$C$5:$C$828,$A57) -> 1 | G57: =SUMIFS('Escada Data'!$E$5:$E$828,'Escada Data'!$B$5:$B$828,G$8,'Escada Data'!$C$5:$C$828,$A57) -> 4 | H57: =SUMIFS('Escada Data'!$E$5:$E$828,'Escada Data'!$B$5:$B$828,H$8,'Escada Data'!$C$5:$C$828,$A57) -> 0 | I57: =SUMIFS('Escada Data'!$E$5:$E$828,'Escada Data'!$B$5:$B$828,I$8,'Escada Data'!$C$5:$C$828,$A57) -> 1 | ... Z57: =SUMIFS('Escada Data'!$E$5:$E$828,'Escada Data'!$B$5:$B$828,Z$8,'Escada Data'!$C$5:$C$828,$A57) -> 4
A58: Anzahl PrA Lernende pro Kanton | B58: =SUBTOTAL(109,B9:B57) -> 63 | C58: =SUBTOTAL(109,C9:C57) -> 0 | D58: =SUBTOTAL(109,D9:D57) -> 4 | E58: =SUBTOTAL(109,E9:E57) -> 181 | F58: =SUBTOTAL(109,F9:F57) -> 12 | G58: =SUBTOTAL(109,G9:G57) -> 47 | H58: =SUBTOTAL(109,H9:H57) -> 22 | I58: =SUBTOTAL(109,I9:I57) -> 32 | ... Z58: =SUBTOTAL(109,Z9:Z57) -> 214
A63: Stand│État : Juillet 2025
A64: Quelle│Source : INSOS (Föderation ARTISET)
A65: © INSOS 2025
A66: Die Vervielfältigung ist erlaubt, sofern die Quelle angegeben wird und keine kommerziellen Zwecke verfolgt werden│La reproduction est autorisée, sauf à des fins commerciales, si la source est mentionnée
A68: Kontaktperson│Renseignements : Rocco Brignoli, Wissenschaftlicher Mitarbeiter Arbeitswelt, pra@insos.ch│Collaborateur scientifique Monde du travail, fpra@insos.ch
A97: Stand: März 2021
A98: Quelle: INSOS Schweiz, PrA Lernende 2020/2021 (nur 1. Lehrjahr)
A99: © INSOS Schweiz 2021

Sheet Escada Data
A1: ESCADA-Datenbank, 1. / 2. Lehrjahr 2024/2025
A2: Datenexport : 14.02.2025
A4: Lehrbetrieb | B4: Kanton | C4: Pra-Bezeichnung | D4: Anzahl Lernende 1. Lehrjahr | E4: Anzahl Lernende 2. Lehrjahr
A5: ABA Amriswil | B5: TG | C5: Praktiker PrA Betriebsunterhalt | D5: 1 | E5: 1
A6: ABA Amriswil | B6: TG | C6: Praktiker PrA Gärtnerei | D6: 1 | E6: 0
A7: ABA Amriswil | B7: TG | C7: Praktiker PrA Hauswirtschaft | D7: 2 | E7: 3
A8: ABA Amriswil | B8: TG | C8: Praktiker PrA Industrie | D8: 1 | E8: 1
A9: ABA Amriswil | B9: TG | C9: Praktiker PrA Küche | D9: 1 | E9: 0
A10: ABA Amriswil | B10: TG | C10: Praktiker PrA Logistik | D10: 1 | E10: 1
A11: ABA Amriswil | B11: TG | C11: Praktiker PrA Schreinerei | D11: 4 | E11: 2
A12: Afiro | B12: VD | C12: Praktiker PrA Bäckerei-Konditorei-Confiserie | D12: 7 | E12: 2
A13: Afiro | B13: VD | C13: Praktiker PrA Büroarbeiten | D13: 0 | E13: 1
A14: Afiro | B14: VD | C14: Praktiker PrA Detailhandel | D14: 1 | E14: 0
A15: Afiro | B15: VD | C15: Praktiker PrA Industrie | D15: 2 | E15: 0
A16: Afiro | B16: VD | C16: Praktiker PrA Küche | D16: 3 | E16: 1
... A416: PROF-in, Centre de formation professionnelle spécialisé | B416: FR | C416: Praktiker PrA Hauswirtschaft | D416: 2 | E416: 1
A417: PROF-in, Centre de formation professionnelle spécialisé | B417: FR | C417: Praktiker PrA Küche | D417: 1 | E417: 1 | K417: =SUMIFS('Escada Data'!$D$5:$D$828,'Escada Data'!$B$5:$B$828,B$3,'Escada Data'!$C$5:$C$828,$A4) -> 0
A418: PROF-in, Centre de formation professionnelle spécialisé | B418: FR | C418: Praktiker PrA Malerei | D418: 2 | E418: 1
A419: PROF-in, Centre de formation professionnelle spécialisé | B419: FR | C419: Praktiker PrA Schreinerei | D419: 4 | E419: 2
A420: Quellenhof-Stiftung | B420: ZH | C420: Praktiker PrA Logistik | D420: 0 | E420: 1
A421: Rafisa Informatik GmbH | B421: ZG | C421: Praktiker PrA Informatik | D421: 1 | E421: 0
A422: Ritec (Verein) | B422: FR | C422: Praktiker PrA Schreinerei | D422: 0 | E422: 1
A423: Roger Wiederkehr GmbH Malergeschäft und Ausbildungsbetrieb | B423: ZH | C423: Praktiker PrA Malerei | D423: 2 | E423: 1
A424: sahara | B424: BS | C424: Praktiker PrA Detailhandel | D424: 0 | E424: 1
A425: SAZ Burgdorf | B425: BE | C425: Praktiker PrA Betriebsunterhalt | D425: 2 | E425: 0
A426: SAZ Burgdorf | B426: BE | C426: Praktiker PrA Hauswirtschaft | D426: 0 | E426: 1
A427: SAZ Burgdorf | B427: BE | C427: Praktiker PrA Industrie | D427: 1 | E427: 0
A428: SAZ Burgdorf | B428: BE | C428: Praktiker PrA Küche | D428: 1 | E428: 2
A429: SAZ Burgdorf | B429: BE | C429: Praktiker PrA Logistik | D429: 0 | E429: 1
... A828: zeka Wohnhaus Aargau zentren körperbehinderte aargau | B828: AG | C828: Praktiker PrA Büroarbeiten | D828: 0 | E828: 2
D829: =SUM(D5:D828) -> 1114 | E829: =SUM(E5:E828) -> 1047
